{ "currentVersion": 11.1, "serviceDescription": "

A raster feature class of the county flood criteria boundaries within Miami-Dade County. The purpose of the Miami-Dade County Flood Criteria Map is to determine the minimum ground surface elevation of developed properties, crown/grade of roads, and secondary canal banks based on a 10-year, 24-hour storm event, 2060 scenario with SLR, and the minimum top elevation of seawalls, unless higher elevations are required by other regulatory applicable standards. Available for review and comment October 22, 2021 through December 22, 2021.Updated: Every 10 yrs The data was created using: Projected Coordinate System: WGS_1984_Web_Mercator_Auxiliary_SphereProjection: Mercator_Auxiliary_Sphere<\/SPAN><\/P><\/DIV><\/DIV><\/DIV>", "name": "CountyFloodCriteria_2020", "description": "

A raster feature class of the county flood criteria boundaries within Miami-Dade County. The purpose of the Miami-Dade County Flood Criteria Map is to determine the minimum ground surface elevation of developed properties, crown/grade of roads, and secondary canal banks based on a 10-year, 24-hour storm event, 2060 scenario with SLR, and the minimum top elevation of seawalls, unless higher elevations are required by other regulatory applicable standards. Available for review and comment October 22, 2021 through December 22, 2021.Updated: Every 10 yrs The data was created using: Projected Coordinate System: WGS_1984_Web_Mercator_Auxiliary_SphereProjection: Mercator_Auxiliary_Sphere<\/SPAN><\/P><\/DIV><\/DIV><\/DIV>", "extent": { "xmin": 763467.7341235084, "ymin": 292665.07169816364, "xmax": 946067.7341235084, "ymax": 597765.0716981636, "spatialReference": { "wkid": 102658, "latestWkid": 2236 } }, "initialExtent": { "xmin": 763467.7341235084, "ymin": 292665.07169816364, "xmax": 946067.7341235084, "ymax": 597765.0716981636, "spatialReference": { "wkid": 102658, "latestWkid": 2236 } }, "fullExtent": { "xmin": 763467.7341235084, "ymin": 292665.07169816364, "xmax": 946067.7341235084, "ymax": 597765.0716981636, "spatialReference": { "wkid": 102658, "latestWkid": 2236 } }, "sortableFields": "", "bandCount": 1, "pixelType": "F32", "minValues": [ 6 ], "maxValues": [ 23.695999145507812 ], "meanValues": [ 7.357501371593448 ], "stdvValues": [ 1.7035945320844714 ], "hasMultidimensions": false, "pixelSizeX": 100, "pixelSizeY": 100, "datasetFormat": "SDR", "uncompressedSize": 22284504, "blockWidth": 128, "blockHeight": 128, "compressionType": "LZ77", "bandNames": [ "Band_1" ], "allowCopy": true, "allowAnalysis": true, "itemAccess": false, "minPixelSize": 0, "maxPixelSize": 0, "copyrightText": "Miami-Dade County GIS, Miami-Dade RER", "serviceDataType": "esriImageServiceDataTypeGeneric", "serviceSourceType": "esriImageServiceSourceTypeDataset", "objectIdField": "", "fields": [], "capabilities": "Image,Metadata,Mensuration", "defaultMosaicMethod": "Center", "allowedMosaicMethods": "", "sortField": "", "sortValue": null, "sortAscending": true, "mosaicOperator": "First", "defaultCompressionQuality": 75, "defaultResamplingMethod": "Bilinear", "maxImageHeight": 4100, "maxImageWidth": 15000, "allowRasterFunction": true, "rasterFunctionInfos": [ { "name": "None", "description": "", "help": "" } ], "rasterTypeInfos": [ { "name": "Raster Dataset", "description": "Supports all ArcGIS Raster Datasets", "help": "" } ], "mensurationCapabilities": "Basic", "hasHistograms": true, "hasColormap": false, "hasRasterAttributeTable": false, "minScale": 0, "maxScale": 0, "exportTilesAllowed": false, "supportsStatistics": false, "supportsAdvancedQueries": false, "editFieldsInfo": null, "ownershipBasedAccessControlForRasters": null, "allowComputeTiePoints": false, "useStandardizedQueries": true, "advancedQueryCapabilities": { "useStandardizedQueries": true, "supportsStatistics": false, "supportsOrderBy": false, "supportsDistinct": false, "supportsPagination": false }, "spatialReference": { "wkid": 102658, "latestWkid": 2236 } }