View In:
ArcGIS JavaScript
ArcGIS Online Map Viewer
ArcGIS Earth
Service Description: A raster feature class of the county flood criteria boundaries within Miami-Dade County. The purpose of the Miami-Dade County Flood Criteria Map is to determine the minimum ground surface elevation of developed properties, crown/grade of roads, and secondary canal banks based on a 10-year, 24-hour storm event, 2060 scenario with SLR, and the minimum top elevation of seawalls, unless higher elevations are required by other regulatory applicable standards. Available for review and comment October 22, 2021 through December 22, 2021.Updated: Every 10 yrs The data was created using: Projected Coordinate System: WGS_1984_Web_Mercator_Auxiliary_SphereProjection: Mercator_Auxiliary_Sphere
Name: CountyFloodCriteria_2020
Description: A raster feature class of the county flood criteria boundaries within Miami-Dade County. The purpose of the Miami-Dade County Flood Criteria Map is to determine the minimum ground surface elevation of developed properties, crown/grade of roads, and secondary canal banks based on a 10-year, 24-hour storm event, 2060 scenario with SLR, and the minimum top elevation of seawalls, unless higher elevations are required by other regulatory applicable standards. Available for review and comment October 22, 2021 through December 22, 2021.Updated: Every 10 yrs The data was created using: Projected Coordinate System: WGS_1984_Web_Mercator_Auxiliary_SphereProjection: Mercator_Auxiliary_Sphere
Single Fused Map Cache: false
Extent:
XMin: 763467.7341235084
YMin: 292665.07169816364
XMax: 946067.7341235084
YMax: 597765.0716981636
Spatial Reference: 102658
(2236)
Initial Extent:
XMin: 763467.7341235084
YMin: 292665.07169816364
XMax: 946067.7341235084
YMax: 597765.0716981636
Spatial Reference: 102658
(2236)
Full Extent:
XMin: 763467.7341235084
YMin: 292665.07169816364
XMax: 946067.7341235084
YMax: 597765.0716981636
Spatial Reference: 102658
(2236)
Pixel Size X: 100.0
Pixel Size Y: 100.0
Band Count: 1
Pixel Type: F32
RasterFunction Infos: {"rasterFunctionInfos": [{
"name": "None",
"description": "",
"help": ""
}]}
Mensuration Capabilities: Basic
Has Histograms: true
Has Colormap: false
Has Multi Dimensions : false
Rendering Rule:
Min Scale: 0
Max Scale: 0
Copyright Text: Miami-Dade County GIS, Miami-Dade RER
Service Data Type: esriImageServiceDataTypeGeneric
Min Values: 6
Max Values: 23.695999145507812
Mean Values: 7.357501371593448
Standard Deviation Values: 1.7035945320844714
Object ID Field:
Fields:
None
Default Mosaic Method: Center
Allowed Mosaic Methods:
SortField:
SortValue: null
Mosaic Operator: First
Default Compression Quality: 75
Default Resampling Method: Bilinear
Max Record Count: null
Max Image Height: 4100
Max Image Width: 15000
Max Download Image Count: null
Max Mosaic Image Count: null
Allow Raster Function: true
Allow Copy: true
Allow Analysis: true
Allow Compute TiePoints: false
Supports Statistics: false
Supports Advanced Queries: false
Use StandardizedQueries: true
Raster Type Infos:
Name: Raster Dataset
Description: Supports all ArcGIS Raster Datasets
Help:
Has Raster Attribute Table: false
Edit Fields Info: null
Ownership Based AccessControl For Rasters: null
Child Resources:
Info
Histograms
Statistics
Key Properties
Legend
Raster Function Infos
Supported Operations:
Export Image
Identify
Measure
Compute Histograms
Compute Statistics Histograms
Get Samples
Compute Class Statistics
Query Boundary
Compute Pixel Location
Compute Angles
Validate
Project